Package: chihaya Version: 1.10.0 Command: /home/biocbuild/bbs-3.22-bioc/R/bin/R CMD INSTALL chihaya StartedAt: 2025-11-14 15:38:19 -0500 (Fri, 14 Nov 2025) EndedAt: 2025-11-14 15:38:54 -0500 (Fri, 14 Nov 2025) EllapsedTime: 34.8 seconds RetCode: 0 Status: OK