Package: chevreulShiny Version: 1.1.2 Command: /home/biocbuild/bbs-3.22-bioc/R/bin/R CMD INSTALL chevreulShiny StartedAt: 2025-10-24 16:08:12 -0400 (Fri, 24 Oct 2025) EndedAt: 2025-10-24 16:09:09 -0400 (Fri, 24 Oct 2025) EllapsedTime: 56.2 seconds RetCode: 0 Status: OK