Package: chevreulProcess Version: 1.2.0 Command: /Library/Frameworks/R.framework/Resources/bin/R CMD INSTALL chevreulProcess StartedAt: 2025-11-02 15:56:41 -0500 (Sun, 02 Nov 2025) EndedAt: 2025-11-02 15:57:53 -0500 (Sun, 02 Nov 2025) EllapsedTime: 72.2 seconds RetCode: 0 Status: OK