Package: chevreulProcess Version: 1.2.0 Command: /Library/Frameworks/R.framework/Resources/bin/R CMD build --keep-empty-dirs --no-resave-data chevreulProcess StartedAt: 2025-11-03 16:26:13 -0500 (Mon, 03 Nov 2025) EndedAt: 2025-11-03 16:27:39 -0500 (Mon, 03 Nov 2025) EllapsedTime: 86.5 seconds RetCode: 0 Status: OK PackageFile: chevreulProcess_1.2.0.tar.gz PackageFileSize: 4.756 MiB