Package: chevreulProcess Version: 1.2.0 Command: rm -rf chevreulProcess.buildbin-libdir && mkdir chevreulProcess.buildbin-libdir && /Users/biocbuild/BBS/utils/build-universal.sh chevreulProcess_1.2.0.tar.gz /Library/Frameworks/R.framework/Resources/bin/R chevreulProcess.buildbin-libdir StartedAt: 2025-11-04 01:32:11 -0500 (Tue, 04 Nov 2025) EndedAt: 2025-11-04 01:33:23 -0500 (Tue, 04 Nov 2025) EllapsedTime: 72.8 seconds RetCode: 0 Status: OK PackageFile: chevreulProcess_1.2.0.tgz PackageFileSize: 4.863 MiB