Package: chevreulProcess Version: 1.1.2 Command: /Library/Frameworks/R.framework/Resources/bin/R CMD INSTALL chevreulProcess StartedAt: 2025-10-24 15:32:26 -0400 (Fri, 24 Oct 2025) EndedAt: 2025-10-24 15:32:52 -0400 (Fri, 24 Oct 2025) EllapsedTime: 25.8 seconds RetCode: 0 Status: OK