Package: chevreulProcess Version: 1.2.0 Maintainer: Kevin Stachelek MaintainerEmail: kevin.stachelek at gmail.com git_url: https://git.bioconductor.org/packages/chevreulProcess git_branch: RELEASE_3_22 git_last_commit: a07dc13 git_last_commit_date: 2025-10-29 11:34:17 -0400 (Wed, 29 Oct 2025)