Package: chevreulPlot Version: 1.1.2 Command: /home/biocbuild/bbs-3.22-bioc/R/bin/R CMD INSTALL chevreulPlot StartedAt: 2025-10-24 16:07:20 -0400 (Fri, 24 Oct 2025) EndedAt: 2025-10-24 16:08:12 -0400 (Fri, 24 Oct 2025) EllapsedTime: 52.7 seconds RetCode: 0 Status: OK