Package: chevreulPlot Version: 1.1.2 Command: /home/biocbuild/bbs-3.22-bioc/R/bin/R CMD build --keep-empty-dirs --no-resave-data --md5 chevreulPlot StartedAt: 2025-10-24 16:57:06 -0400 (Fri, 24 Oct 2025) EndedAt: 2025-10-24 16:58:23 -0400 (Fri, 24 Oct 2025) EllapsedTime: 77.1 seconds RetCode: 0 Status: OK PackageFile: chevreulPlot_1.1.2.tar.gz PackageFileSize: 12.85 MiB