Package: chevreulPlot Version: 1.2.0 Command: /Library/Frameworks/R.framework/Resources/bin/R CMD INSTALL chevreulPlot StartedAt: 2025-11-02 15:30:48 -0500 (Sun, 02 Nov 2025) EndedAt: 2025-11-02 15:31:10 -0500 (Sun, 02 Nov 2025) EllapsedTime: 22.2 seconds RetCode: 0 Status: OK