Package: chevreulPlot Version: 1.2.0 Command: rm -rf chevreulPlot.buildbin-libdir && mkdir chevreulPlot.buildbin-libdir && /Users/biocbuild/BBS/utils/build-universal.sh chevreulPlot_1.2.0.tar.gz /Library/Frameworks/R.framework/Resources/bin/R chevreulPlot.buildbin-libdir StartedAt: 2025-11-04 22:57:54 -0500 (Tue, 04 Nov 2025) EndedAt: 2025-11-04 22:58:18 -0500 (Tue, 04 Nov 2025) EllapsedTime: 24.4 seconds RetCode: 0 Status: OK PackageFile: chevreulPlot_1.2.0.tgz PackageFileSize: 12.96 MiB