Package: cfTools Version: 1.10.0 Command: /Library/Frameworks/R.framework/Resources/bin/R CMD build --keep-empty-dirs --no-resave-data cfTools StartedAt: 2025-10-31 16:29:35 -0400 (Fri, 31 Oct 2025) EndedAt: 2025-10-31 16:30:49 -0400 (Fri, 31 Oct 2025) EllapsedTime: 74.3 seconds RetCode: 1 Status: ERROR PackageFile: None PackageFileSize: NA