Package: cfTools Version: 1.9.0 Command: /Library/Frameworks/R.framework/Resources/bin/R CMD INSTALL cfTools StartedAt: 2025-10-24 15:13:17 -0400 (Fri, 24 Oct 2025) EndedAt: 2025-10-24 15:13:30 -0400 (Fri, 24 Oct 2025) EllapsedTime: 13.8 seconds RetCode: 0 Status: OK