Package: cfTools Version: 1.9.0 Command: /Library/Frameworks/R.framework/Resources/bin/R CMD build --keep-empty-dirs --no-resave-data cfTools StartedAt: 2025-10-24 15:56:59 -0400 (Fri, 24 Oct 2025) EndedAt: 2025-10-24 15:57:27 -0400 (Fri, 24 Oct 2025) EllapsedTime: 27.3 seconds RetCode: 1 Status: ERROR PackageFile: None PackageFileSize: NA