Package: cfDNAPro Version: 1.16.0 Command: /home/biocbuild/bbs-3.22-bioc/R/bin/R CMD INSTALL cfDNAPro StartedAt: 2025-10-29 21:51:38 -0400 (Wed, 29 Oct 2025) EndedAt: 2025-10-29 21:52:13 -0400 (Wed, 29 Oct 2025) EllapsedTime: 34.8 seconds RetCode: 0 Status: OK