Package: cfDNAPro Version: 1.16.0 Command: /Library/Frameworks/R.framework/Resources/bin/R CMD INSTALL cfDNAPro StartedAt: 2025-10-29 22:17:49 -0400 (Wed, 29 Oct 2025) EndedAt: 2025-10-29 22:18:34 -0400 (Wed, 29 Oct 2025) EllapsedTime: 45.3 seconds RetCode: 0 Status: OK