Package: cfDNAPro Version: 1.16.0 Command: /Library/Frameworks/R.framework/Resources/bin/R CMD build --keep-empty-dirs --no-resave-data cfDNAPro StartedAt: 2025-10-30 16:19:32 -0400 (Thu, 30 Oct 2025) EndedAt: 2025-10-30 16:20:37 -0400 (Thu, 30 Oct 2025) EllapsedTime: 65.0 seconds RetCode: 0 Status: OK PackageFile: cfDNAPro_1.16.0.tar.gz PackageFileSize: 1.431 MiB