Package: cfDNAPro Version: 1.16.0 Command: rm -rf cfDNAPro.buildbin-libdir && mkdir cfDNAPro.buildbin-libdir && /Users/biocbuild/BBS/utils/build-universal.sh cfDNAPro_1.16.0.tar.gz /Library/Frameworks/R.framework/Resources/bin/R cfDNAPro.buildbin-libdir StartedAt: 2025-10-30 08:08:15 -0400 (Thu, 30 Oct 2025) EndedAt: 2025-10-30 08:09:03 -0400 (Thu, 30 Oct 2025) EllapsedTime: 48.0 seconds RetCode: 0 Status: OK PackageFile: cfDNAPro_1.16.0.tgz PackageFileSize: 1.417 MiB