Package: cfDNAPro Version: 1.15.0 Command: /Library/Frameworks/R.framework/Resources/bin/R CMD INSTALL cfDNAPro StartedAt: 2025-10-27 15:19:13 -0400 (Mon, 27 Oct 2025) EndedAt: 2025-10-27 15:19:27 -0400 (Mon, 27 Oct 2025) EllapsedTime: 14.1 seconds RetCode: 0 Status: OK