Package: cfDNAPro Version: 1.15.0 Command: /Library/Frameworks/R.framework/Resources/bin/R CMD build --keep-empty-dirs --no-resave-data cfDNAPro StartedAt: 2025-10-27 15:54:16 -0400 (Mon, 27 Oct 2025) EndedAt: 2025-10-27 15:54:41 -0400 (Mon, 27 Oct 2025) EllapsedTime: 24.3 seconds RetCode: 0 Status: OK PackageFile: cfDNAPro_1.15.0.tar.gz PackageFileSize: 1.431 MiB