Package: cfDNAPro Version: 1.15.0 Command: rm -rf cfDNAPro.buildbin-libdir && mkdir cfDNAPro.buildbin-libdir && /Users/biocbuild/BBS/utils/build-universal.sh cfDNAPro_1.15.0.tar.gz /Library/Frameworks/R.framework/Resources/bin/R cfDNAPro.buildbin-libdir StartedAt: 2025-10-27 22:56:35 -0400 (Mon, 27 Oct 2025) EndedAt: 2025-10-27 22:56:50 -0400 (Mon, 27 Oct 2025) EllapsedTime: 15.2 seconds RetCode: 0 Status: OK PackageFile: cfDNAPro_1.15.0.tgz PackageFileSize: 1.417 MiB