Package: cfDNAPro Version: 1.16.0 Maintainer: Haichao Wang MaintainerEmail: hw538 at cam.ac.uk git_url: https://git.bioconductor.org/packages/cfDNAPro git_branch: RELEASE_3_22 git_last_commit: 910ff77 git_last_commit_date: 2025-10-29 11:11:06 -0500 (Wed, 29 Oct 2025)