Package: censcyt Version: 1.17.0 Command: /home/biocbuild/bbs-3.22-bioc/R/bin/R CMD INSTALL censcyt StartedAt: 2025-10-24 15:33:48 -0400 (Fri, 24 Oct 2025) EndedAt: 2025-10-24 15:34:21 -0400 (Fri, 24 Oct 2025) EllapsedTime: 32.6 seconds RetCode: 0 Status: OK