Package: cellxgenedp Version: 1.13.1 Command: /home/biocbuild/bbs-3.22-bioc/R/bin/R CMD INSTALL cellxgenedp StartedAt: 2025-10-24 15:19:36 -0400 (Fri, 24 Oct 2025) EndedAt: 2025-10-24 15:19:43 -0400 (Fri, 24 Oct 2025) EllapsedTime: 7.7 seconds RetCode: 0 Status: OK