Package: cellxgenedp Version: 1.14.0 Command: /Library/Frameworks/R.framework/Resources/bin/R CMD INSTALL cellxgenedp StartedAt: 2025-10-31 15:08:49 -0400 (Fri, 31 Oct 2025) EndedAt: 2025-10-31 15:08:52 -0400 (Fri, 31 Oct 2025) EllapsedTime: 3.0 seconds RetCode: 0 Status: OK