Package: cellscape Version: 1.33.0 Command: /home/biocbuild/bbs-3.22-bioc/R/bin/R CMD INSTALL cellscape StartedAt: 2025-10-24 15:19:51 -0400 (Fri, 24 Oct 2025) EndedAt: 2025-10-24 15:19:55 -0400 (Fri, 24 Oct 2025) EllapsedTime: 3.8 seconds RetCode: 0 Status: OK