Package: cellity Version: 1.37.0 Command: /home/biocbuild/bbs-3.22-bioc/R/bin/R CMD build --keep-empty-dirs --no-resave-data --md5 cellity StartedAt: 2025-10-27 16:43:19 -0400 (Mon, 27 Oct 2025) EndedAt: 2025-10-27 16:44:28 -0400 (Mon, 27 Oct 2025) EllapsedTime: 69.0 seconds RetCode: 0 Status: OK PackageFile: cellity_1.37.0.tar.gz PackageFileSize: 1.234 MiB