Package: cellbaseR Version: 1.33.0 Command: /Library/Frameworks/R.framework/Resources/bin/R CMD INSTALL cellbaseR StartedAt: 2025-10-24 15:13:49 -0400 (Fri, 24 Oct 2025) EndedAt: 2025-10-24 15:13:55 -0400 (Fri, 24 Oct 2025) EllapsedTime: 5.6 seconds RetCode: 0 Status: OK