Package: celda Version: 1.25.0 Command: /home/biocbuild/bbs-3.22-bioc/R/bin/R CMD INSTALL celda StartedAt: 2025-10-24 16:05:29 -0400 (Fri, 24 Oct 2025) EndedAt: 2025-10-24 16:06:38 -0400 (Fri, 24 Oct 2025) EllapsedTime: 68.1 seconds RetCode: 0 Status: OK