Package: celda Version: 1.25.0 Command: /home/biocbuild/bbs-3.22-bioc/R/bin/R CMD build --keep-empty-dirs --no-resave-data --md5 celda StartedAt: 2025-10-24 16:50:46 -0400 (Fri, 24 Oct 2025) EndedAt: 2025-10-24 16:55:46 -0400 (Fri, 24 Oct 2025) EllapsedTime: 300.2 seconds RetCode: 0 Status: OK PackageFile: celda_1.25.0.tar.gz PackageFileSize: 2.518 MiB