Package: celaref Version: 1.27.0 Command: /home/biocbuild/bbs-3.22-bioc/R/bin/R CMD INSTALL celaref StartedAt: 2025-10-27 15:22:55 -0400 (Mon, 27 Oct 2025) EndedAt: 2025-10-27 15:23:21 -0400 (Mon, 27 Oct 2025) EllapsedTime: 26.6 seconds RetCode: 0 Status: OK