Package: celaref Version: 1.27.0 Command: /home/biocbuild/bbs-3.22-bioc/R/bin/R CMD build --keep-empty-dirs --no-resave-data --md5 celaref StartedAt: 2025-10-27 16:41:57 -0400 (Mon, 27 Oct 2025) EndedAt: 2025-10-27 16:44:46 -0400 (Mon, 27 Oct 2025) EllapsedTime: 169.1 seconds RetCode: 0 Status: OK PackageFile: celaref_1.27.0.tar.gz PackageFileSize: 2.969 MiB