Package: ceRNAnetsim Version: 1.21.1 Command: /home/biocbuild/R/R/bin/R CMD INSTALL ceRNAnetsim StartedAt: 2025-10-23 20:26:28 -0000 (Thu, 23 Oct 2025) EndedAt: 2025-10-23 20:26:47 -0000 (Thu, 23 Oct 2025) EllapsedTime: 19.7 seconds RetCode: 0 Status: OK