Package: ceRNAnetsim Version: 1.21.1 Command: /home/biocbuild/R/R/bin/R CMD build --keep-empty-dirs --no-resave-data ceRNAnetsim StartedAt: 2025-10-20 22:35:48 -0000 (Mon, 20 Oct 2025) EndedAt: 2025-10-20 22:42:28 -0000 (Mon, 20 Oct 2025) EllapsedTime: 400.1 seconds RetCode: 0 Status: OK PackageFile: ceRNAnetsim_1.21.1.tar.gz PackageFileSize: 2.865 MiB