Package: ceRNAnetsim Version: 1.21.1 Command: /home/biocbuild/bbs-3.22-bioc/R/bin/R CMD INSTALL ceRNAnetsim StartedAt: 2025-10-27 15:11:21 -0400 (Mon, 27 Oct 2025) EndedAt: 2025-10-27 15:11:29 -0400 (Mon, 27 Oct 2025) EllapsedTime: 7.9 seconds RetCode: 0 Status: OK