Package: ceRNAnetsim Version: 1.21.1 Command: /home/biocbuild/bbs-3.22-bioc/R/bin/R CMD check --install=check:ceRNAnetsim.install-out.txt --library=/home/biocbuild/bbs-3.22-bioc/R/site-library --timings ceRNAnetsim_1.21.1.tar.gz StartedAt: 2025-10-24 22:03:27 -0400 (Fri, 24 Oct 2025) EndedAt: 2025-10-24 22:09:47 -0400 (Fri, 24 Oct 2025) EllapsedTime: 380.5 seconds RetCode: 0 Status: OK CheckDir: ceRNAnetsim.Rcheck Warnings: 0