Package: ceRNAnetsim Version: 1.21.1 Command: /Library/Frameworks/R.framework/Resources/bin/R CMD build --keep-empty-dirs --no-resave-data ceRNAnetsim StartedAt: 2025-10-28 16:23:11 -0400 (Tue, 28 Oct 2025) EndedAt: 2025-10-28 16:28:35 -0400 (Tue, 28 Oct 2025) EllapsedTime: 323.8 seconds RetCode: 0 Status: OK PackageFile: ceRNAnetsim_1.21.1.tar.gz PackageFileSize: 3.057 MiB