Package: ceRNAnetsim Version: 1.21.1 Command: /Library/Frameworks/R.framework/Resources/bin/R CMD INSTALL ceRNAnetsim StartedAt: 2025-10-24 15:07:53 -0400 (Fri, 24 Oct 2025) EndedAt: 2025-10-24 15:07:57 -0400 (Fri, 24 Oct 2025) EllapsedTime: 3.8 seconds RetCode: 0 Status: OK