Package: ceRNAnetsim Version: 1.21.1 Command: /Library/Frameworks/R.framework/Resources/bin/R CMD build --keep-empty-dirs --no-resave-data ceRNAnetsim StartedAt: 2025-10-24 15:56:28 -0400 (Fri, 24 Oct 2025) EndedAt: 2025-10-24 15:58:11 -0400 (Fri, 24 Oct 2025) EllapsedTime: 103.1 seconds RetCode: 0 Status: OK PackageFile: ceRNAnetsim_1.21.1.tar.gz PackageFileSize: 3.063 MiB