Package: ceRNAnetsim Version: 1.21.1 Command: rm -rf ceRNAnetsim.buildbin-libdir && mkdir ceRNAnetsim.buildbin-libdir && /Users/biocbuild/BBS/utils/build-universal.sh ceRNAnetsim_1.21.1.tar.gz /Library/Frameworks/R.framework/Resources/bin/R ceRNAnetsim.buildbin-libdir StartedAt: 2025-10-24 22:57:04 -0400 (Fri, 24 Oct 2025) EndedAt: 2025-10-24 22:57:08 -0400 (Fri, 24 Oct 2025) EllapsedTime: 4.1 seconds RetCode: 0 Status: OK PackageFile: ceRNAnetsim_1.21.1.tgz PackageFileSize: 2.591 MiB