Package: ceRNAnetsim Version: 1.21.1 Maintainer: Selcen Ari Yuka MaintainerEmail: selcenarii at gmail.com git_url: https://git.bioconductor.org/packages/ceRNAnetsim git_branch: devel git_last_commit: 8f8fbe1 git_last_commit_date: 2025-10-08 02:28:14 -0400 (Wed, 08 Oct 2025)