Package: ccrepe Version: 1.46.0 Command: /Library/Frameworks/R.framework/Resources/bin/R CMD build --keep-empty-dirs --no-resave-data ccrepe StartedAt: 2025-11-02 15:51:44 -0500 (Sun, 02 Nov 2025) EndedAt: 2025-11-02 15:51:51 -0500 (Sun, 02 Nov 2025) EllapsedTime: 7.1 seconds RetCode: 0 Status: OK PackageFile: ccrepe_1.46.0.tar.gz PackageFileSize: 303.7 KiB