Package: ccrepe Version: 1.46.0 Command: rm -rf ccrepe.buildbin-libdir && mkdir ccrepe.buildbin-libdir && /Users/biocbuild/BBS/utils/build-universal.sh ccrepe_1.46.0.tar.gz /Library/Frameworks/R.framework/Resources/bin/R ccrepe.buildbin-libdir StartedAt: 2025-11-02 22:58:42 -0500 (Sun, 02 Nov 2025) EndedAt: 2025-11-02 22:58:44 -0500 (Sun, 02 Nov 2025) EllapsedTime: 2.0 seconds RetCode: 0 Status: OK PackageFile: ccrepe_1.46.0.tgz PackageFileSize: 360.2 KiB