Package: ccmap Version: 1.35.1 Command: /home/biocbuild/bbs-3.22-bioc/R/bin/R CMD INSTALL ccmap StartedAt: 2025-10-24 15:39:58 -0400 (Fri, 24 Oct 2025) EndedAt: 2025-10-24 15:40:13 -0400 (Fri, 24 Oct 2025) EllapsedTime: 15.5 seconds RetCode: 0 Status: OK