Package: ccfindR Version: 1.29.0 Command: /home/biocbuild/bbs-3.22-bioc/R/bin/R CMD build --keep-empty-dirs --no-resave-data --md5 ccfindR StartedAt: 2025-10-24 16:49:49 -0400 (Fri, 24 Oct 2025) EndedAt: 2025-10-24 16:53:16 -0400 (Fri, 24 Oct 2025) EllapsedTime: 207.1 seconds RetCode: 0 Status: OK PackageFile: ccfindR_1.29.0.tar.gz PackageFileSize: 1.186 MiB