Package: ccImpute Version: 1.11.0 Command: /home/biocbuild/bbs-3.22-bioc/R/bin/R CMD build --keep-empty-dirs --no-resave-data --md5 ccImpute StartedAt: 2025-10-24 16:49:52 -0400 (Fri, 24 Oct 2025) EndedAt: 2025-10-24 16:53:28 -0400 (Fri, 24 Oct 2025) EllapsedTime: 216.1 seconds RetCode: 0 Status: OK PackageFile: ccImpute_1.11.0.tar.gz PackageFileSize: 987.3 KiB