Package: cbaf Version: 1.31.0 Command: /home/biocbuild/bbs-3.22-bioc/R/bin/R CMD INSTALL cbaf StartedAt: 2025-10-24 15:55:48 -0400 (Fri, 24 Oct 2025) EndedAt: 2025-10-24 15:56:33 -0400 (Fri, 24 Oct 2025) EllapsedTime: 44.4 seconds RetCode: 0 Status: OK