Package: cbaf Version: 1.31.0 Command: /home/biocbuild/bbs-3.22-bioc/R/bin/R CMD build --keep-empty-dirs --no-resave-data --md5 cbaf StartedAt: 2025-10-24 16:48:59 -0400 (Fri, 24 Oct 2025) EndedAt: 2025-10-24 16:50:09 -0400 (Fri, 24 Oct 2025) EllapsedTime: 70.1 seconds RetCode: 0 Status: OK PackageFile: cbaf_1.31.0.tar.gz PackageFileSize: 787.4 KiB