Package: categoryCompare Version: 1.53.0 Command: /home/biocbuild/bbs-3.22-bioc/R/bin/R CMD INSTALL categoryCompare StartedAt: 2025-10-24 15:52:32 -0400 (Fri, 24 Oct 2025) EndedAt: 2025-10-24 15:52:57 -0400 (Fri, 24 Oct 2025) EllapsedTime: 25.9 seconds RetCode: 0 Status: OK