Package: categoryCompare Version: 1.53.0 Command: /home/biocbuild/bbs-3.22-bioc/R/bin/R CMD build --keep-empty-dirs --no-resave-data --md5 categoryCompare StartedAt: 2025-10-24 16:48:37 -0400 (Fri, 24 Oct 2025) EndedAt: 2025-10-24 16:51:02 -0400 (Fri, 24 Oct 2025) EllapsedTime: 145.2 seconds RetCode: 0 Status: OK PackageFile: categoryCompare_1.53.0.tar.gz PackageFileSize: 3.164 MiB